BEGIN:VCALENDAR
VERSION:2.0
PRODID:-//Tutor Helpful - ECPv6.8.3//NONSGML v1.0//EN
CALSCALE:GREGORIAN
METHOD:PUBLISH
X-WR-CALNAME:Tutor Helpful
X-ORIGINAL-URL:https://tutorhelpful.com
X-WR-CALDESC:Events for Tutor Helpful
REFRESH-INTERVAL;VALUE=DURATION:PT1H
X-Robots-Tag:noindex
X-PUBLISHED-TTL:PT1H
BEGIN:VTIMEZONE
TZID:UTC
BEGIN:STANDARD
TZOFFSETFROM:+0000
TZOFFSETTO:+0000
TZNAME:UTC
DTSTART:20230101T000000
END:STANDARD
END:VTIMEZONE
BEGIN:VEVENT
DTSTART;TZID=UTC:20231022T143000
DTEND;TZID=UTC:20231022T153000
DTSTAMP:20260422T181713
CREATED:20200505T134233Z
LAST-MODIFIED:20230620T215520Z
UID:318-1697985000-1697988600@tutorhelpful.com
SUMMARY:Art & Design for Beginners
DESCRIPTION:Art & Design for Beginners \nArt and Design are powerful tools of expression and communication that can shape our world and stir emotions. They encapsulate a vast spectrum of disciplines\, from drawing and painting to graphic design and photography. If you are taking the first steps into this enriching field\, understanding the basics of art and design can lead to a satisfying journey of self-discovery and creativity. \nBasics of Art \nThe foundation of art lies in the ability to express oneself through various forms such as drawing\, painting\, sculpture\, and printmaking. As a beginner\, your journey begins with learning the essential elements of art – line\, shape\, form\, space\, texture\, value\, and color. Each of these elements contributes to the creation of a piece of art and is essential in determining its mood\, composition\, and message. \nFor instance\, drawing is a fundamental skill that teaches you the importance of observation and the ability to represent what you see. Painting introduces you to the exciting world of colors and how they can be mixed and manipulated to create different effects. Understanding these concepts helps in honing your skills and developing your unique artistic style. \nBasics of Design \nDesign\, on the other hand\, is about problem-solving. It involves creating visual content to communicate messages. The principles of design—contrast\, hierarchy\, alignment\, balance\, proximity\, repetition\, simplicity\, and function—guide the arrangement of visual elements in a design. \nIn graphic design\, for instance\, you’ll learn how to use typography\, images\, and color to communicate effectively. If you’re interested in product design\, you’ll understand how function and aesthetics come together to create user-friendly products. \nInterior design involves the use of space\, light\, and furniture to create functional and pleasing environments. Understanding these various aspects can help you to create designs that are both visually appealing and serve a specific purpose. \nImportance of Art & Design \nArt and design play a critical role in our lives. They can make our surroundings more attractive\, convey powerful messages\, evoke emotions\, and drive change. They also greatly influence our perceptions and interactions with the world. \nMoreover\, the process of creating art or design can be therapeutic and fulfilling. It promotes self-expression\, improves problem-solving skills\, and encourages creative thinking. It can also serve as a medium for cultural expression and social commentary. \nConclusion \nThe journey into art and design can be both exciting and challenging. It requires patience\, practice\, and an open mind. At TutorHelpful\, we aim to provide a supportive environment where beginners can explore\, learn\, and grow their skills in art and design. \nOur tutors are experienced professionals who can guide you through the basics and help you develop your unique creative style. Whether you want to paint a landscape\, design a poster\, or just explore your creativity\, we are here to support you. With us\, you’ll not just learn art and design; you’ll experience the joy of creating something uniquely yours. Embark on your creative journey with TutorHelpful today! \nAt TutorHelpful\, we aim to provide a supportive environment where beginners can explore\, learn\, and grow their skills in art and design. \nAmy AdamsTutor \nOver 12\,0005 Star RatingsRated 5/5 by 12\,000 Students
URL:https://tutorhelpful.com/event/art-design-for-beginners/
LOCATION:Online\, United States
CATEGORIES:Art & Design
ATTACH;FMTTYPE=image/jpeg:https://tutorhelpful.com/wp-content/uploads/2020/05/art-design-beginners-event-scaled-1.jpg
END:VEVENT
BEGIN:VEVENT
DTSTART;TZID=UTC:20231022T113000
DTEND;TZID=UTC:20231022T123000
DTSTAMP:20260422T181713
CREATED:20200505T140334Z
LAST-MODIFIED:20230620T215326Z
UID:325-1697974200-1697977800@tutorhelpful.com
SUMMARY:Introduction to Foundation Mathematics
DESCRIPTION:Introduction to Foundation Mathematics \nMathematics is often described as the language of the universe\, a field that provides structure and logic to the world around us. It has an undeniable role in numerous aspects of our daily lives\, ranging from managing our finances to understanding the patterns in nature. Foundation Mathematics serves as the bedrock of this vast\, expansive discipline\, introducing students to essential concepts and methodologies that equip them to approach complex mathematical problems. \nThe Core of Foundation Mathematics \nThe curriculum of Foundation Mathematics is centered around fundamental concepts that form the backbone of all mathematical disciplines. These include arithmetic\, where students gain proficiency in basic operations such as addition\, subtraction\, multiplication\, and division\, and move onto more complex ideas like fractions\, decimals\, and percentages. Understanding these operations is crucial\, as they form the building blocks for most of the mathematical equations and real-world calculations we encounter daily. \nAlgebra is another significant component of Foundation Mathematics. Here\, students are introduced to variables\, expressions\, and equations\, which are essential tools for modeling and solving mathematical problems. The ability to work with unknown quantities and formulating equations is vital in fields ranging from physics to economics. \nGeometry\, with its focus on shapes\, sizes\, and properties of space\, is another integral part of Foundation Mathematics. Students learn to recognize and analyze various forms\, understand the concepts of area\, volume\, and angle measurements\, and appreciate the symmetries and patterns inherent in spatial configurations. \nLastly\, foundational understanding of data and statistics is also essential. This branch of mathematics focuses on collecting\, analyzing\, interpreting\, presenting\, and organizing data\, building the groundwork for decision making in uncertain situations\, which is a skill of immense value in today’s data-driven world. \nWhy Foundation Mathematics is Crucial \nA strong grasp of Foundation Mathematics is essential for advanced study in the field and for practical application in various other disciplines. Engineers\, scientists\, economists\, architects\, computer programmers\, and countless other professionals rely on these foundational concepts every day. \nBeyond the professional realm\, mathematics is invaluable in everyday life. Budgeting personal finances\, understanding statistical information in news reports\, or even baking a cake – all of these require an understanding of basic mathematical principles. \nConclusion \nFoundation Mathematics is not just about learning numbers and operations. It’s about developing logical reasoning and problem-solving skills. It’s about understanding patterns and relationships\, promoting analytical thinking and strategic planning. It equips learners with the tools to make sense of the complex world we live in. \nAt TutorHelpful\, we are dedicated to laying a strong mathematical foundation for our students\, empowering them to confidently navigate their future academic and professional journeys. Whether you’re seeking help with algebra\, geometry\, or data analysis\, our skilled tutors are here to guide you every step of the way. Let us assist you in unlocking the endless possibilities that come with a strong mathematical foundation. \nA strong grasp of Foundation Mathematics is essential for advanced study in the field and for practical application in various other disciplines. \nAmy AdamsTutor
URL:https://tutorhelpful.com/event/introduction-to-foundation-mathematics/
LOCATION:Online\, United States
CATEGORIES:Mathematics
ATTACH;FMTTYPE=image/jpeg:https://tutorhelpful.com/wp-content/uploads/2020/05/mathematics-event-1-scaled-1.jpg
END:VEVENT
BEGIN:VEVENT
DTSTART;TZID=UTC:20231015T100000
DTEND;TZID=UTC:20231015T110000
DTSTAMP:20260422T181713
CREATED:20200505T152325Z
LAST-MODIFIED:20230620T215356Z
UID:341-1697364000-1697367600@tutorhelpful.com
SUMMARY:Taster Sessions
DESCRIPTION:Discover Your Passion with Taster Sessions at TutorHelpful \nAt TutorHelpful\, we understand that embarking on a new learning journey can sometimes feel intimidating or overwhelming. You might be curious about a subject but unsure whether you’ll enjoy it or excel in it. You might even be considering a career change but feel uncertain about taking the plunge. This is why we’ve designed our Taster Sessions – to give you a risk-free opportunity to explore a subject\, gain a feel for our teaching style\, and assess whether a certain learning pathway is the right fit for you. \nWhat are Taster Sessions? \nOur Taster Sessions are short\, introductory classes that offer a sneak peek into the full range of courses we offer. These sessions are designed to be engaging\, informative\, and fun. They provide an opportunity for you to dip your toes in new waters before committing to a complete course. \nWhether you’re curious about coding\, pondering over painting\, intrigued by Italian\, or fascinated by foundation mathematics\, our Taster Sessions offer a welcoming space to satiate your curiosity. \nWhy Attend a Taster Session? \nTaster Sessions can provide you with numerous benefits. First\, they allow you to experience a subject first-hand without any long-term commitment. You can explore the subject matter\, understand the skills you’ll learn\, and evaluate whether it aligns with your interests and goals. \nSecond\, Taster Sessions give you a chance to meet our tutors and understand their teaching style. Each of our tutors is a subject-matter expert dedicated to providing a supportive\, engaging\, and enriching learning environment. \nThird\, these sessions allow you to connect with fellow learners who share your interests. You can engage in interactive discussions\, exchange ideas\, and broaden your perspective. \nHow Our Taster Sessions Work \nOur Taster Sessions typically last for an hour\, providing an overview of the subject and a taste of what to expect in the full course. You’ll get to participate in discussions\, ask questions\, and even complete small hands-on activities or projects in some sessions. \nAt the end of the Taster Session\, if you feel that the subject is the right fit for you\, you can easily sign up for the full course. If not\, that’s okay too. There’s a multitude of other Taster Sessions you can attend until you discover the subject that sparks your passion. \nConclusion \nAt TutorHelpful\, we’re all about fostering a love for learning and helping you discover your interests. We believe in making education accessible\, enjoyable\, and tailored to your needs. Our Taster Sessions reflect this belief\, giving you the freedom and flexibility to explore different subjects and find your passion. So why wait? Embark on a journey of discovery with TutorHelpful’s Taster Sessions today! \nIf you feel that the subject is the right fit for you\, you can easily sign up for the full course. If not\, that’s okay too.  \nAmy AdamsTutor
URL:https://tutorhelpful.com/event/taster-sessions/
LOCATION:Online\, United States
CATEGORIES:Art & Design,Literature,Mathematics
ATTACH;FMTTYPE=image/jpeg:https://tutorhelpful.com/wp-content/uploads/2020/05/taster-session-1-scaled-1.jpg
END:VEVENT
END:VCALENDAR