BEGIN:VCALENDAR
VERSION:2.0
PRODID:-//Tutor Helpful - ECPv6.8.3//NONSGML v1.0//EN
CALSCALE:GREGORIAN
METHOD:PUBLISH
X-ORIGINAL-URL:http://tutorhelpful.com
X-WR-CALDESC:Events for Tutor Helpful
REFRESH-INTERVAL;VALUE=DURATION:PT1H
X-Robots-Tag:noindex
X-PUBLISHED-TTL:PT1H
BEGIN:VTIMEZONE
TZID:UTC
BEGIN:STANDARD
TZOFFSETFROM:+0000
TZOFFSETTO:+0000
TZNAME:UTC
DTSTART:20230101T000000
END:STANDARD
END:VTIMEZONE
BEGIN:VEVENT
DTSTART;TZID=UTC:20231015T100000
DTEND;TZID=UTC:20231015T110000
DTSTAMP:20260422T034654
CREATED:20200505T152325Z
LAST-MODIFIED:20230620T215356Z
UID:341-1697364000-1697367600@tutorhelpful.com
SUMMARY:Taster Sessions
DESCRIPTION:Discover Your Passion with Taster Sessions at TutorHelpful \nAt TutorHelpful\, we understand that embarking on a new learning journey can sometimes feel intimidating or overwhelming. You might be curious about a subject but unsure whether you’ll enjoy it or excel in it. You might even be considering a career change but feel uncertain about taking the plunge. This is why we’ve designed our Taster Sessions – to give you a risk-free opportunity to explore a subject\, gain a feel for our teaching style\, and assess whether a certain learning pathway is the right fit for you. \nWhat are Taster Sessions? \nOur Taster Sessions are short\, introductory classes that offer a sneak peek into the full range of courses we offer. These sessions are designed to be engaging\, informative\, and fun. They provide an opportunity for you to dip your toes in new waters before committing to a complete course. \nWhether you’re curious about coding\, pondering over painting\, intrigued by Italian\, or fascinated by foundation mathematics\, our Taster Sessions offer a welcoming space to satiate your curiosity. \nWhy Attend a Taster Session? \nTaster Sessions can provide you with numerous benefits. First\, they allow you to experience a subject first-hand without any long-term commitment. You can explore the subject matter\, understand the skills you’ll learn\, and evaluate whether it aligns with your interests and goals. \nSecond\, Taster Sessions give you a chance to meet our tutors and understand their teaching style. Each of our tutors is a subject-matter expert dedicated to providing a supportive\, engaging\, and enriching learning environment. \nThird\, these sessions allow you to connect with fellow learners who share your interests. You can engage in interactive discussions\, exchange ideas\, and broaden your perspective. \nHow Our Taster Sessions Work \nOur Taster Sessions typically last for an hour\, providing an overview of the subject and a taste of what to expect in the full course. You’ll get to participate in discussions\, ask questions\, and even complete small hands-on activities or projects in some sessions. \nAt the end of the Taster Session\, if you feel that the subject is the right fit for you\, you can easily sign up for the full course. If not\, that’s okay too. There’s a multitude of other Taster Sessions you can attend until you discover the subject that sparks your passion. \nConclusion \nAt TutorHelpful\, we’re all about fostering a love for learning and helping you discover your interests. We believe in making education accessible\, enjoyable\, and tailored to your needs. Our Taster Sessions reflect this belief\, giving you the freedom and flexibility to explore different subjects and find your passion. So why wait? Embark on a journey of discovery with TutorHelpful’s Taster Sessions today! \nIf you feel that the subject is the right fit for you\, you can easily sign up for the full course. If not\, that’s okay too.  \nAmy AdamsTutor
URL:http://tutorhelpful.com/event/taster-sessions/
LOCATION:Online\, United States
CATEGORIES:Art & Design,Literature,Mathematics
ATTACH;FMTTYPE=image/jpeg:http://tutorhelpful.com/wp-content/uploads/2020/05/taster-session-1-scaled-1.jpg
END:VEVENT
END:VCALENDAR